BEGIN:VCALENDAR
VERSION:2.0
PRODID:-//Les Restos du Chat - ECPv6.15.17//NONSGML v1.0//EN
CALSCALE:GREGORIAN
METHOD:PUBLISH
X-ORIGINAL-URL:https://lesrestosduchat.org
X-WR-CALDESC:Évènements pour Les Restos du Chat
REFRESH-INTERVAL;VALUE=DURATION:PT1H
X-Robots-Tag:noindex
X-PUBLISHED-TTL:PT1H
BEGIN:VTIMEZONE
TZID:Europe/Paris
BEGIN:DAYLIGHT
TZOFFSETFROM:+0100
TZOFFSETTO:+0200
TZNAME:CEST
DTSTART:20220327T010000
END:DAYLIGHT
BEGIN:STANDARD
TZOFFSETFROM:+0200
TZOFFSETTO:+0100
TZNAME:CET
DTSTART:20221030T010000
END:STANDARD
BEGIN:DAYLIGHT
TZOFFSETFROM:+0100
TZOFFSETTO:+0200
TZNAME:CEST
DTSTART:20230326T010000
END:DAYLIGHT
BEGIN:STANDARD
TZOFFSETFROM:+0200
TZOFFSETTO:+0100
TZNAME:CET
DTSTART:20231029T010000
END:STANDARD
BEGIN:DAYLIGHT
TZOFFSETFROM:+0100
TZOFFSETTO:+0200
TZNAME:CEST
DTSTART:20240331T010000
END:DAYLIGHT
BEGIN:STANDARD
TZOFFSETFROM:+0200
TZOFFSETTO:+0100
TZNAME:CET
DTSTART:20241027T010000
END:STANDARD
END:VTIMEZONE
BEGIN:VEVENT
DTSTART;VALUE=DATE:20231213
DTEND;VALUE=DATE:20231218
DTSTAMP:20260425T032403
CREATED:20230831T165145Z
LAST-MODIFIED:20230831T165145Z
UID:5823-1702425600-1702857599@lesrestosduchat.org
SUMMARY:Marché de Noël
DESCRIPTION:Retrouvez nous à Laval pour le marché de Noël du 13 au 17 décembre\, square de Boston.
URL:https://lesrestosduchat.org/event/marche-de-noel-3/
LOCATION:Square de Boston\, square de boston\, Laval\, 53000\, France
END:VEVENT
END:VCALENDAR